BEGIN:VCALENDAR
VERSION:2.0
PRODID:-//Allianz für Beteiligung - ECPv6.15.18//NONSGML v1.0//EN
CALSCALE:GREGORIAN
METHOD:PUBLISH
X-WR-CALNAME:Allianz für Beteiligung
X-ORIGINAL-URL:https://allianz-fuer-beteiligung.de
X-WR-CALDESC:Veranstaltungen für Allianz für Beteiligung
REFRESH-INTERVAL;VALUE=DURATION:PT1H
X-Robots-Tag:noindex
X-PUBLISHED-TTL:PT1H
BEGIN:VTIMEZONE
TZID:Europe/Berlin
BEGIN:DAYLIGHT
TZOFFSETFROM:+0100
TZOFFSETTO:+0200
TZNAME:CEST
DTSTART:20250330T010000
END:DAYLIGHT
BEGIN:STANDARD
TZOFFSETFROM:+0200
TZOFFSETTO:+0100
TZNAME:CET
DTSTART:20251026T010000
END:STANDARD
BEGIN:DAYLIGHT
TZOFFSETFROM:+0100
TZOFFSETTO:+0200
TZNAME:CEST
DTSTART:20260329T010000
END:DAYLIGHT
BEGIN:STANDARD
TZOFFSETFROM:+0200
TZOFFSETTO:+0100
TZNAME:CET
DTSTART:20261025T010000
END:STANDARD
BEGIN:DAYLIGHT
TZOFFSETFROM:+0100
TZOFFSETTO:+0200
TZNAME:CEST
DTSTART:20270328T010000
END:DAYLIGHT
BEGIN:STANDARD
TZOFFSETFROM:+0200
TZOFFSETTO:+0100
TZNAME:CET
DTSTART:20271031T010000
END:STANDARD
END:VTIMEZONE
BEGIN:VEVENT
DTSTART;TZID=Europe/Berlin:20261016T100000
DTEND;TZID=Europe/Berlin:20261016T160000
DTSTAMP:20260422T174927
CREATED:20260202T085716Z
LAST-MODIFIED:20260224T184937Z
UID:10000746-1792144800-1792166400@allianz-fuer-beteiligung.de
SUMMARY:Großes Netzwerktreffen in Schwäbisch Gmünd
DESCRIPTION:📅 16. Oktober 2026 | 🕒 10:00 – 16:00 Uhr | 📍 Congress-Centrum Stadtgarten in Schwäbisch Gmünd \n\nWie kann Bürgerbeteiligung vor Ort wirklich gelingen? Was benötigen zivilgesellschaftliche Akteure\, um eigene Prozesse erfolgreich planen und durchführen zu können? Und wie gelingt eine gute Zusammenarbeit zwischen Verwaltung\, Politik und Zivilgesellschaft?\n \n  \n \nDiesen Fragen widmet sich das große Netzwerktreffen der Allianz für Beteiligung am 16. Oktober in Schwäbisch Gmünd. Im Mittelpunkt stehen Erfahrungen\, Ideen und Perspektiven aus Zivilgesellschaft und Kommunen. Das Treffen bildet den Abschluss der diesjährigen Reihe „Allianz auf Tour – Wie gelingt Beteiligung vor Ort?“ und bietet Raum für Austausch\, Vernetzung und gemeinsames Weiterdenken rund um erfolgreiche Beteiligungsprozesse und bürgerschaftliches Engagement. \nAustausch auf Basis konkreter Praxisbeispiele\nEine wichtige Grundlage für den Austausch sind vier Projektbesuche\, die in der ersten Jahreshälfte 2026 in ganz Baden-Württemberg stattfinden. Ziel dieser Besuche ist es\, praxisnahe Gelingensfaktoren aus Sicht von Initiativen und Kommunen zu identifizieren\, die Beteiligungsprozesse vor Ort gestalten und umsetzen. \nBeim Netzwerktreffen werden diese Gelingensfaktoren gemeinsam vertieft: Was funktioniert in der Praxis gut? Wo liegen Herausforderungen? Welche Ansätze haben sich bewährt? \nWorkshops und gemeinsames Weiterdenken\nIn Workshops bringen die Teilnehmenden ihre eigenen Erfahrungen ein\, vertiefen zentrale Themen der Projektbesuche und entwickeln gemeinsam Lösungsansätze für wichtige Fragen der Bürgerbeteiligung. Die Erkenntnisse aus den Projektbesuchen und dem Netzwerktreffen werden anschließend in einer Broschüre aufbereitet\, damit sie auch langfristig für andere Engagierte und Kommunen nutzbar sind. \nFür wen ist das Netzwerktreffen gedacht?\nEingeladen sind alle\, die sich für Beteiligung interessieren oder selbst engagieren – insbesondere zivilgesellschaftliche Initiativen\, Engagierte aus Verwaltung und Politik sowie weitere Akteur*innen\, die Beteiligung vor Ort aktiv gestalten. \nDas Netzwerktreffen versteht sich als Ort der Begegnung\, des Lernens und der Inspiration. Gemeinsam werden wir an neuen Perspektiven für die Weiterentwicklung von Beteiligung in Baden-Württemberg arbeiten. \nHinweise: \n\nDas ausführliche Programm folgt.\nWir versuchen allen Interessierten die Teilnahme zu ermöglichen und individuelle Bedarfe zu berücksichtigen. Teilen Sie uns gerne bei Ihrer Online-Anmeldung mit\, wie wir Sie durch den Abbau von Barrieren (z.B. durch den Einsatz von Gebärdensprachdolmetscher*innen oder die Erstattung von Reisekosten) bei der Teilnahme am Netzwerktreffen unterstützen können.\nDie Teilnahme an den Veranstaltungen ist kostenfrei. Für Verpflegung ist gesorgt.\n\nFinanziert aus Landesmitteln\, die der Landtag von Baden-Württemberg beschlossen hat. Das Land Baden-Württemberg wird durch das Staatsministerium\, das Ministerium für Soziales\, Gesundheit und Integration\, das Ministerium für Ernährung\, Ländlichen\nRaum und Verbraucherschutz\, das Ministerium für Verkehr sowie das Ministerium für Umwelt\, Klima und Energiewirtschaft vertreten.
URL:https://allianz-fuer-beteiligung.de/veranstaltung/netzwerktreffen-2026/
LOCATION:Congress-Centrum Schwäbisch Gmünd\, Rektor-Klaus-Str. 9\, 73525 Schwäbisch Gmünd\, Baden-Württemberg\, Deutschland
CATEGORIES:Veranstaltungen - Allianz für Beteiligung
END:VEVENT
END:VCALENDAR