BEGIN:VCALENDAR
VERSION:2.0
PRODID:-//Allianz für Beteiligung - ECPv6.15.18//NONSGML v1.0//EN
CALSCALE:GREGORIAN
METHOD:PUBLISH
X-ORIGINAL-URL:https://allianz-fuer-beteiligung.de
X-WR-CALDESC:Veranstaltungen für Allianz für Beteiligung
REFRESH-INTERVAL;VALUE=DURATION:PT1H
X-Robots-Tag:noindex
X-PUBLISHED-TTL:PT1H
BEGIN:VTIMEZONE
TZID:Europe/Berlin
BEGIN:DAYLIGHT
TZOFFSETFROM:+0100
TZOFFSETTO:+0200
TZNAME:CEST
DTSTART:20240331T010000
END:DAYLIGHT
BEGIN:STANDARD
TZOFFSETFROM:+0200
TZOFFSETTO:+0100
TZNAME:CET
DTSTART:20241027T010000
END:STANDARD
BEGIN:DAYLIGHT
TZOFFSETFROM:+0100
TZOFFSETTO:+0200
TZNAME:CEST
DTSTART:20250330T010000
END:DAYLIGHT
BEGIN:STANDARD
TZOFFSETFROM:+0200
TZOFFSETTO:+0100
TZNAME:CET
DTSTART:20251026T010000
END:STANDARD
BEGIN:DAYLIGHT
TZOFFSETFROM:+0100
TZOFFSETTO:+0200
TZNAME:CEST
DTSTART:20260329T010000
END:DAYLIGHT
BEGIN:STANDARD
TZOFFSETFROM:+0200
TZOFFSETTO:+0100
TZNAME:CET
DTSTART:20261025T010000
END:STANDARD
END:VTIMEZONE
BEGIN:VEVENT
DTSTART;TZID=Europe/Berlin:20251204T170000
DTEND;TZID=Europe/Berlin:20251204T210000
DTSTAMP:20260425T200027
CREATED:20251126T152034Z
LAST-MODIFIED:20251126T152413Z
UID:10000658-1764867600-1764882000@allianz-fuer-beteiligung.de
SUMMARY:Ratschlag Demokratie: Wie können wir Grundwerte und Rechtsstaat verteidigen?
DESCRIPTION:Zur Anmeldung für die Abschlussveranstaltung am 04. Dezember 2025 gelangen Sie hier. \nDie Demokratie in Deutschland und Europa ist in Gefahr. Im Inneren wird sie von demokratiefeindlichen Gruppierungen und Parteien angegriffen. Von außen wird sie gleichzeitig unter enormen Druck durch autokratisch regierte\, demokratiefeindlich agierende Staaten gesetzt. \nAlle Bürger*innen\, alle staatlichen Einrichtungen und alle zivilgesellschaftlichen Kräfte in unserem Land (vom Dorfverein bis zum Weltunternehmen) sind daher aufgefordert wie lange nicht\, die Demokratie und den Rechtstaat zu verteidigen und für sie zu streiten. \nDazu führen Volkshochschulen in ganz Baden-Württemberg Veranstaltungen durch\, in denen darüber diskutiert und beratschlagt wird\, was man tun kann und muss\, um die Demokratie gegen ihre Feinde zu verteidigen und dauerhaft zu stärken. Dabei soll es um kurz- und mittelfristige Maßnahmen und Aktionen gehen\, aber auch um langfristige Prozesse. Ein Punkt wird sicher sein\, stärker zu vermitteln\, wie positiv unser Grundgesetz und unsere Demokratie sind. Unser Rechtsstaat und unsere Gewaltenteilung sind Errungenschaften\, die wir uns nicht von Demokratiefeinden madig machen lassen dürfen. Die Medienfreiheit ist eine weitere Errungenschaft\, die wir auch gegen fake news und Manipulation in social media zu verteidigen haben. Das gilt auch für Wahrheit und Wissenschaft\, die ja von rechtspopulistischen Kräften immer mehr angegriffen werden. Nicht ausklammern wollen wir die Frage\, was sich denn an der Politik der demokratischen Parteien ändern müsste\, damit sie widerstandsfähiger werden gegen verlockende Beschimpfungen aus dem Lager der Demokratiegegner*innen. \nDemokratie braucht Bildung. Und wir Volkshochschulen sind ein zentraler Ort für die Weiterbildung der Erwachsenen. Deshalb wollen wir uns auch fragen\, was wir als Bildungseinrichtung zusätzlich tun können\, um die Demokratiebildung zu stärken. \nAn dem vom Volkshochschulverband Baden-Württemberg aus Eigenmitteln geförderten Projekt „Ratschlag Demokratie“ nehmen 21 Volkshochschulen teil. Die Veranstaltungen werden im Oktober und November 2025 durchgeführt. Die Abschlussveranstaltung findet am 4. Dezember 2025 in der vhs Stuttgart statt.
URL:https://allianz-fuer-beteiligung.de/veranstaltung/ratschlag-demokratie-wie-koennen-wir-grundwerte-und-rechtsstaat-verteidigen/
LOCATION:Stuttgart
END:VEVENT
END:VCALENDAR