BEGIN:VCALENDAR
VERSION:2.0
PRODID:-//Allianz für Beteiligung - ECPv6.15.18//NONSGML v1.0//EN
CALSCALE:GREGORIAN
METHOD:PUBLISH
X-ORIGINAL-URL:https://allianz-fuer-beteiligung.de
X-WR-CALDESC:Veranstaltungen für Allianz für Beteiligung
REFRESH-INTERVAL;VALUE=DURATION:PT1H
X-Robots-Tag:noindex
X-PUBLISHED-TTL:PT1H
BEGIN:VTIMEZONE
TZID:Europe/Berlin
BEGIN:DAYLIGHT
TZOFFSETFROM:+0100
TZOFFSETTO:+0200
TZNAME:CEST
DTSTART:20240331T010000
END:DAYLIGHT
BEGIN:STANDARD
TZOFFSETFROM:+0200
TZOFFSETTO:+0100
TZNAME:CET
DTSTART:20241027T010000
END:STANDARD
BEGIN:DAYLIGHT
TZOFFSETFROM:+0100
TZOFFSETTO:+0200
TZNAME:CEST
DTSTART:20250330T010000
END:DAYLIGHT
BEGIN:STANDARD
TZOFFSETFROM:+0200
TZOFFSETTO:+0100
TZNAME:CET
DTSTART:20251026T010000
END:STANDARD
BEGIN:DAYLIGHT
TZOFFSETFROM:+0100
TZOFFSETTO:+0200
TZNAME:CEST
DTSTART:20260329T010000
END:DAYLIGHT
BEGIN:STANDARD
TZOFFSETFROM:+0200
TZOFFSETTO:+0100
TZNAME:CET
DTSTART:20261025T010000
END:STANDARD
END:VTIMEZONE
BEGIN:VEVENT
DTSTART;TZID=Europe/Berlin:20251001T093000
DTEND;TZID=Europe/Berlin:20251001T163000
DTSTAMP:20260424T115620
CREATED:20250826T061848Z
LAST-MODIFIED:20250826T061848Z
UID:10000631-1759311000-1759336200@allianz-fuer-beteiligung.de
SUMMARY:10 Jahre gemeinsam unterwegs – Gemeinschaftsverkehre in Baden-Württemberg
DESCRIPTION:Im Herbst 2025 feiert die NVBW 10 Jahre Landesunterstützung für Bürgerbusse und Gemeinschaftsverkehre in Baden-Württemberg. Was 2015 begann\, hat sich zu einer landesweiten Bewegung entwickelt – getragen von ehrenamtlichem Engagement und starken Partnerschaften. Aus diesem Anlass laden das Ministerium für Verkehr Baden-Württemberg\, die Nahverkehrsgesellschaft Baden-Württemberg (NVBW) sowie die Akademie Ländlicher Raum (ALR) herzlich ein zur Jubiläumsveranstaltung: \nFreuen Sie sich auf:\n– Beiträge zu Erfolgen\, Herausforderungen und Perspektiven\n– Einblicke in die neue Evaluationsstudie\n– Impulse aus der Praxis und aus dem Ausland\n– Podiumsdiskussionen mit Politik und Engagierten\n– Viel Raum für Austausch\, Begegnung und Vernetzung \nWeitere Informationen und Anmeldung
URL:https://allianz-fuer-beteiligung.de/veranstaltung/10-jahre-gemeinsam-unterwegs-gemeinschaftsverkehre-in-baden-wuerttemberg/
LOCATION:Congress-Centrum Schwäbisch Gmünd\, Rektor-Klaus-Str. 9\, 73525 Schwäbisch Gmünd\, Baden-Württemberg\, Deutschland
ORGANIZER;CN="NVBW - Nahverkehrsgesellschaft Baden-W%C3%BCrttemberg mbH":MAILTO:info(at)nvbw.de
END:VEVENT
END:VCALENDAR